BEGIN:VCALENDAR
VERSION:2.0
PRODID:-//wp-events-plugin.com//7.2.3.1//EN
TZID:America/New_York
X-WR-TIMEZONE:America/New_York
BEGIN:VEVENT
UID:245@saratogaplan.org
DTSTART;TZID=America/New_York:20260507T170000
DTEND;TZID=America/New_York:20260507T200000
DTSTAMP:20260326T132839Z
URL:https://saratogaplan.org/events/community-night-at-saratoga-outdoors/
SUMMARY:Community Night at Saratoga Outdoors
DESCRIPTION:Gear up and give back! Stop in from 5–8 pm and 30% of net sal
 es will support protecting and caring for the places you love and need in 
 the Saratoga region.
ATTACH;FMTTYPE=image/jpeg:https://saratogaplan.org/wp-content/uploads/2026
 /03/Saratoga-Outdoors.png
END:VEVENT
BEGIN:VTIMEZONE
TZID:America/New_York
X-LIC-LOCATION:America/New_York
BEGIN:DAYLIGHT
DTSTART:20260308T030000
TZOFFSETFROM:-0500
TZOFFSETTO:-0400
TZNAME:EDT
END:DAYLIGHT
END:VTIMEZONE
END:VCALENDAR